Workbook

Sheet Rate Sheet NATIONAL 1.2
A2: Enter your ER Contribution %: | E2: 0.6
A3: Enter # of payrolls/year: | E3: 26
A4: Select payroll schedule: | E4: bi-weekly
A5: Hide columns: C, D, I & J before printing
B7: Health Insurance Rates | O7: Health, Dental and Vision Insurance Rates
B8: Effective January 1, 2026 | O8: Effective January 1, 2024
B10: BCBS 7K Plan | H10: BCBS 4K HSA | O10: BCBS OAP5 2.5K/20 7.9KAE | S10: BCBS suOAP6 5K/20 7.9KN
B11: EE Election | C11: Total Monthly Premium | D11: ER Monthly Premium | E11: EE Monthly Premium | F11: Per Paycheck | H11: EE Election | I11: Total Monthly Premium | J11: ER Monthly Premium | K11: EE Monthly Premium | L11: Per Paycheck | O11: OAP5 2.5K/20AE | P11: Monthly Premium | Q11: Per Paycheck | S11: OPA2L 6K/0 7.15k | T11: Monthly Premium | U11: Per Paycheck
B12: Employee (EE) | C12: 749.608 | D12: =C12*$E$2 -> 449.7648 | E12: =C12-D12 -> 299.8432 | F12: =SUM(E12*12)/$E$3 -> 138.38917 | H12: Employee (EE) | I12: 781.264 | J12: =$D$12 -> 449.7648 | K12: =I12-J12 -> 331.4992 | L12: =SUM(K12*12)/$E$3 -> 152.99963 | O12: Employee (EE) | P12: 568.505 | Q12: 284.2525 | S12: Employee (EE) | T12: 499.145 | U12: 249.5725
B13: EE + Spouse | C13: 1411.684 | D13: =$D$12 -> 449.7648 | E13: =C13-D13 -> 961.9192 | F13: =SUM(E13*12)/$E$3 -> 443.96271 | H13: EE + Spouse | I13: 1472.86 | J13: =$D$12 -> 449.7648 | K13: =I13-J13 -> 1023.0952 | L13: =SUM(K13*12)/$E$3 -> 472.19778 | O13: EE + Spouse | P13: 1742.925 | Q13: 871.4625 | S13: EE + Spouse | T13: 1597.255 | U13: 798.6275
B14: EE + Child(ren) | C14: 1356.328 | D14: =$D$12 -> 449.7648 | E14: =C14-D14 -> 906.5632 | F14: =SUM(E14*12)/$E$3 -> 418.41378 | H14: EE + Child(ren) | I14: 1415.044 | J14: =$D$12 -> 449.7648 | K14: =I14-J14 -> 965.2792 | L14: =SUM(K14*12)/$E$3 -> 445.51348 | O14: EE + Child(ren) | P14: 1582.775 | Q14: 791.3875 | S14: EE + Child(ren) | T14: 1447.515 | U14: 723.7575
B15: Family | C15: 2076.58 | D15: =$D$12 -> 449.7648 | E15: =C15-D15 -> 1626.8152 | F15: =SUM(E15*12)/$E$3 -> 750.83778 | H15: Family | I15: 2167.42 | J15: =$D$12 -> 449.7648 | K15: =I15-J15 -> 1717.6552 | L15: =SUM(K15*12)/$E$3 -> 792.76394 | O15: Family | P15: 2757.195 | Q15: 1378.5975 | S15: Family | T15: 2545.625 | U15: 1272.8125
B17: BCBS 3K | H17: BCBS 1.5K | O17: BCBS Dental | S17: BCBS Vision
B18: EE Election | C18: Total Monthly Premium | D18: ER Monthly Premium | E18: EE Monthly Premium | F18: Per Paycheck | H18: EE Election | I18: Total Monthly Premium | J18: ER Monthly Premium | K18: EE Monthly Premium | L18: Per Paycheck | O18: Dental Vol Complete | P18: Monthly Premium | Q18: Per Paycheck | S18: V-B1010 | T18: Monthly Premium | U18: Per Paycheck
B19: Employee (EE) | C19: 927.004 | D19: =$D$12 -> 449.7648 | E19: =C19-D19 -> 477.2392 | F19: =SUM(E19*12)/$E$3 -> 220.26425 | H19: Employee (EE) | I19: 1034.62 | J19: =$D$12 -> 449.7648 | K19: =I19-J19 -> 584.8552 | L19: =SUM(K19*12)/$E$3 -> 269.93317 | O19: Employee (EE) | P19: 37.71 | Q19: 18.855 | S19: Employee (EE) | T19: 8.28 | U19: 4.14
B20: EE + Spouse | C20: 1754.572 | D20: =$D$12 -> 449.7648 | E20: =C20-D20 -> 1304.8072 | F20: =SUM(E20*12)/$E$3 -> 602.21871 | H20: EE + Spouse | I20: 1962.604 | J20: =$D$12 -> 449.7648 | K20: =I20-J20 -> 1512.8392 | L20: =SUM(K20*12)/$E$3 -> 698.23348 | O20: EE + Spouse | P20: 85.24 | Q20: 42.62 | S20: EE + Spouse | T20: 16.56 | U20: 8.28
B21: EE + Child(ren) | C21: 1685.38 | D21: =$D$12 -> 449.7648 | E21: =C21-D21 -> 1235.6152 | F21: =SUM(E21*12)/$E$3 -> 570.28394 | H21: EE + Child(ren) | I21: 1885.012 | J21: =$D$12 -> 449.7648 | K21: =I21-J21 -> 1435.2472 | L21: =SUM(K21*12)/$E$3 -> 662.42178 | O21: EE + Child(ren) | P21: 72.57 | Q21: 36.285 | S21: EE + Child(ren) | T21: 15.73 | U21: 7.865
B22: Family | C22: 2585.692 | D22: =$D$12 -> 449.7648 | E22: =C22-D22 -> 2135.9272 | F22: =SUM(E22*12)/$E$3 -> 985.81255 | H22: Family | I22: 2894.548 | J22: =$D$12 -> 449.7648 | K22: =I22-J22 -> 2444.7832 | L22: =SUM(K22*12)/$E$3 -> 1128.3615 | O22: Family | P22: 121.53 | Q22: 60.765 | S22: Family | T22: 24.72 | U22: 12.36
O23: *Rates above are based on preliminary census data and may adjust slighlty based on overall enrollment data.
B24: =CONCATENATE("*Per paycheck rates are based on a ",E4," payroll basis.") -> *Per paycheck rates are based on a bi-weekly payroll basis.
C53: weekly
C54: bi-weekly
C55: semi-monthly

Sheet INSTRUCTION TAB
C3: PLEASE READ - VERY IMPORTANT!
C5: This workbook contains features that enable you to customize a Medical Rate Handout to accompany your Benefit Guide. Please follow the steps below to ensure you create a rate sheet using the correct Rate Tier.
C7: IMPORTANT: Your rate tier was emailed to you from Bryan Turmer with Marsha MMA.
C8: IMPORTANT: Ensure to select the correct rate tier for each school.
C10: Step 1: | D10: Enter your ER Contribution % into cell F2. The required minimum is 60%, although you may enter a higher %.
C11: Step 2: | D11: Select your rate tier from the drop down box. The rate tiers range from 0.70 to 2.60. Please refer to your Proposal FOR EACH SCHOOL to ensure you select the correct tier.
C12: Step 3: | D12: Enter # of payrolls/year. Weekly = 52; bi-weekly - 26; semi-monthly = 24; monthly = 1
C13: Step 4: | D13: Select payroll schedule from the drop down box. Choices are: weekly, bi-weekly, semi-monthly, or monthly
C14: Step 5: | D14: Edit the name of the school in row 11 (Primrose School of/at XXX)
C15: Step 6: | D15: Hide columns: D, E, J & K before printing (EMPLOYER ONLY)

Sheet Rate Sheet TEXAS
A2: Step 1: | B2: Enter your ER Contribution %: | F2: 0.6
A3: Step 2: | B3: Select your rate tier from the drop down box: | F3: 0.7 | G3: Refer to your Proposal for your rate
A4: Step 3: | B4: Enter # of payrolls/year: | F4: 26
A5: Step 4: | B5: Select payroll schedule from the drop down box: | F5: bi-weekly
A6: Step 5: | B6: Edit the name of the school in row 11 (Primrose School of/at XXX)
A7: Step 6: | B7: Hide columns: D, E, J & K before printing (EMPLOYER ONLY)
D8: HIDE COLUMN | E8: HIDE COLUMN | J8: HIDE COLUMN | K8: HIDE COLUMN
C10: Health Insurance Rates: Medical, Dental & Vision | P10: Health, Dental and Vision Insurance Rates
C11: Primrose School of/at XXX | P11: Health, Dental and Vision Insurance Rates
C12: Effective January 1, 2027 | P12: Effective January 1, 2024
C14: BCBS 7K Plan | I14: BCBS 4K HSA | P14: BCBS OAP5 2.5K/20 7.9KAE | T14: BCBS suOAP6 5K/20 7.9KN
C15: EE Election | D15: Total Monthly Premium | E15: ER Monthly Premium | F15: EE Monthly Premium | G15: Per Paycheck | I15: EE Election | J15: Total Monthly Premium | K15: ER Monthly Premium | L15: EE Monthly Premium | M15: Per Paycheck | P15: OAP5 2.5K/20AE | Q15: Monthly Premium | R15: Per Paycheck | T15: OPA2L 6K/0 7.15k | U15: Monthly Premium | V15: Per Paycheck
C16: Employee (EE) | D16: =VLOOKUP($F$3,'Rate tier guide'!$A$3:$U$12,2,FALSE) -> 534.24197 | E16: =D16*$F$2 -> 320.54518 | F16: =D16-E16 -> 213.69679 | G16: =SUM(F16*12)/$F$4 -> 98.629287 | I16: Employee (EE) | J16: =VLOOKUP($F$3,'Rate tier guide'!$A$3:$U$12,6,FALSE) -> 556.29038 | K16: =$E$16 -> 320.54518 | L16: =J16-K16 -> 235.74519 | M16: =SUM(L16*12)/$F$4 -> 108.80547 | P16: Employee (EE) | Q16: 568.505 | R16: 284.2525 | T16: Employee (EE) | U16: 499.145 | V16: 249.5725
C17: EE + Spouse | D17: =VLOOKUP($F$3,'Rate tier guide'!$A$3:$U$12,3,FALSE) -> 995.37791 | E17: =$E$16 -> 320.54518 | F17: =D17-E17 -> 674.83272 | G17: =SUM(F17*12)/$F$4 -> 311.46126 | I17: EE + Spouse | J17: =VLOOKUP($F$3,'Rate tier guide'!$A$3:$U$12,7,FALSE) -> 1037.987 | K17: =$E$16 -> 320.54518 | L17: =J17-K17 -> 717.44181 | M17: =SUM(L17*12)/$F$4 -> 331.12699 | P17: EE + Spouse | Q17: 1742.925 | R17: 871.4625 | T17: EE + Spouse | U17: 1597.255 | V17: 798.6275
C18: EE + Child(ren) | D18: =VLOOKUP($F$3,'Rate tier guide'!$A$3:$U$12,4,FALSE) -> 956.82245 | E18: =$E$16 -> 320.54518 | F18: =D18-E18 -> 636.27727 | G18: =SUM(F18*12)/$F$4 -> 293.66643 | I18: EE + Child(ren) | J18: =VLOOKUP($F$3,'Rate tier guide'!$A$3:$U$12,8,FALSE) -> 997.71815 | K18: =$E$16 -> 320.54518 | L18: =J18-K18 -> 677.17296 | M18: =SUM(L18*12)/$F$4 -> 312.54137 | P18: EE + Child(ren) | Q18: 1582.775 | R18: 791.3875 | T18: EE + Child(ren) | U18: 1447.515 | V18: 723.7575
C19: Family | D19: =VLOOKUP($F$3,'Rate tier guide'!$A$3:$U$12,5,FALSE) -> 1458.478 | E19: =$E$16 -> 320.54518 | F19: =D19-E19 -> 1137.9328 | G19: =SUM(F19*12)/$F$4 -> 525.19975 | I19: Family | J19: =VLOOKUP($F$3,'Rate tier guide'!$A$3:$U$12,9,FALSE) -> 1521.748 | K19: =$E$16 -> 320.54518 | L19: =J19-K19 -> 1201.2028 | M19: =SUM(L19*12)/$F$4 -> 554.40131 | P19: Family | Q19: 2757.195 | R19: 1378.5975 | T19: Family | U19: 2545.625 | V19: 1272.8125
C21: BCBS 3K | I21: BCBS 1.5K | P21: BCBS Dental | T21: BCBS Vision
C22: EE Election | D22: Total Monthly Premium | E22: ER Monthly Premium | F22: EE Monthly Premium | G22: Per Paycheck | I22: EE Election | J22: Total Monthly Premium | K22: ER Monthly Premium | L22: EE Monthly Premium | M22: Per Paycheck | P22: Dental Vol Complete | Q22: Monthly Premium | R22: Per Paycheck | T22: V-B1010 | U22: Monthly Premium | V22: Per Paycheck
C23: Employee (EE) | D23: =VLOOKUP($F$3,'Rate tier guide'!$A$3:$U$12,10,FALSE) -> 657.79829 | E23: =$E$16 -> 320.54518 | F23: =D23-E23 -> 337.2531 | G23: =SUM(F23*12)/$F$4 -> 155.65528 | I23: Employee (EE) | J23: =VLOOKUP($F$3,'Rate tier guide'!$A$3:$U$12,14,FALSE) -> 732.75283 | K23: =$E$16 -> 320.54518 | L23: =J23-K23 -> 412.20765 | M23: =SUM(L23*12)/$F$4 -> 190.24968 | P23: Employee (EE) | Q23: 37.71 | R23: 18.855 | T23: Employee (EE) | U23: 8.28 | V23: 4.14
C24: EE + Spouse | D24: =VLOOKUP($F$3,'Rate tier guide'!$A$3:$U$12,11,FALSE) -> 1234.1994 | E24: =$E$16 -> 320.54518 | F24: =D24-E24 -> 913.65421 | G24: =SUM(F24*12)/$F$4 -> 421.68656 | I24: EE + Spouse | J24: =VLOOKUP($F$3,'Rate tier guide'!$A$3:$U$12,15,FALSE) -> 1379.0937 | K24: =$E$16 -> 320.54518 | L24: =J24-K24 -> 1058.5485 | M24: =SUM(L24*12)/$F$4 -> 488.56085 | P24: EE + Spouse | Q24: 85.24 | R24: 42.62 | T24: EE + Spouse | U24: 16.56 | V24: 8.28
C25: EE + Child(ren) | D25: =VLOOKUP($F$3,'Rate tier guide'!$A$3:$U$12,12,FALSE) -> 1186.0072 | E25: =$E$16 -> 320.54518 | F25: =D25-E25 -> 865.46199 | G25: =SUM(F25*12)/$F$4 -> 399.44399 | I25: EE + Child(ren) | J25: =VLOOKUP($F$3,'Rate tier guide'!$A$3:$U$12,16,FALSE) -> 1325.0509 | K25: =$E$16 -> 320.54518 | L25: =J25-K25 -> 1004.5057 | M25: =SUM(L25*12)/$F$4 -> 463.618 | P25: EE + Child(ren) | Q25: 72.57 | R25: 36.285 | T25: EE + Child(ren) | U25: 15.73 | V25: 7.865
C26: Family | D26: =VLOOKUP($F$3,'Rate tier guide'!$A$3:$U$12,13,FALSE) -> 1813.0745 | E26: =$E$16 -> 320.54518 | F26: =D26-E26 -> 1492.5293 | G26: =SUM(F26*12)/$F$4 -> 688.85967 | I26: Family | J26: =VLOOKUP($F$3,'Rate tier guide'!$A$3:$U$12,17,FALSE) -> 2028.1927 | K26: =$E$16 -> 320.54518 | L26: =J26-K26 -> 1707.6475 | M26: =SUM(L26*12)/$F$4 -> 788.145 | P26: Family | Q26: 121.53 | R26: 60.765 | T26: Family | U26: 24.72 | V26: 12.36
C28: BCBS TX HMO | I28: BCBS Dental - High | P28: BCBS OAP5 2.5K/20 7.9KAE | T28: BCBS suOAP6 5K/20 7.9KN
C29: EE Election | D29: Total Monthly Premium | E29: ER Monthly Premium | F29: EE Monthly Premium | G29: Per Paycheck | I29: EE Election | J29: Total Monthly Premium | K29: ER Monthly Premium | L29: EE Monthly Premium | M29: Per Paycheck | P29: OAP5 2.5K/20AE | Q29: Monthly Premium | R29: Per Paycheck | T29: OPA2L 6K/0 7.15k | U29: Monthly Premium | V29: Per Paycheck
C30: Employee (EE) | D30: =VLOOKUP($F$3,'Rate tier guide'!$A$3:$U$12,18,FALSE) -> 582.94404 | E30: =$E$16 -> 320.54518 | F30: =D30-E30 -> 262.39885 | G30: =SUM(F30*12)/$F$4 -> 121.10716 | I30: Employee (EE) | J30: ='Rate tier guide'!B13 -> 43.14 | K30: 0 | L30: =J30-K30 -> 43.14 | M30: =SUM(L30*12)/$F$4 -> 19.910769 | P30: Employee (EE) | Q30: 568.505 | R30: 284.2525 | T30: Employee (EE) | U30: 499.145 | V30: 249.5725
C31: EE + Spouse | D31: =VLOOKUP($F$3,'Rate tier guide'!$A$3:$U$12,19,FALSE) -> 1089.5141 | E31: =$E$16 -> 320.54518 | F31: =D31-E31 -> 768.96888 | G31: =SUM(F31*12)/$F$4 -> 354.90871 | I31: EE + Spouse | J31: ='Rate tier guide'!C13 -> 80.34 | K31: 0 | L31: =J31-K31 -> 80.34 | M31: =SUM(L31*12)/$F$4 -> 37.08 | P31: EE + Spouse | Q31: 1742.925 | R31: 871.4625 | T31: EE + Spouse | U31: 1597.255 | V31: 798.6275
C32: EE + Child(ren) | D32: =VLOOKUP($F$3,'Rate tier guide'!$A$3:$U$12,20,FALSE) -> 1047.1557 | E32: =$E$16 -> 320.54518 | F32: =D32-E32 -> 726.61053 | G32: =SUM(F32*12)/$F$4 -> 335.35871 | I32: EE + Child(ren) | J32: ='Rate tier guide'!D13 -> 85.15 | K32: 0 | L32: =J32-K32 -> 85.15 | M32: =SUM(L32*12)/$F$4 -> 39.3 | P32: EE + Child(ren) | Q32: 1582.775 | R32: 791.3875 | T32: EE + Child(ren) | U32: 1447.515 | V32: 723.7575
C33: Family | D33: =VLOOKUP($F$3,'Rate tier guide'!$A$3:$U$12,21,FALSE) -> 1598.2488 | E33: =$E$16 -> 320.54518 | F33: =D33-E33 -> 1277.7036 | G33: =SUM(F33*12)/$F$4 -> 589.70936 | I33: Family | J33: ='Rate tier guide'!E13 -> 130.14 | K33: 0 | L33: =J33-K33 -> 130.14 | M33: =SUM(L33*12)/$F$4 -> 60.064615 | P33: Family | Q33: 2757.195 | R33: 1378.5975 | T33: Family | U33: 2545.625 | V33: 1272.8125
C35: BCBS Dental - Low | I35: BCBS Vision | P35: BCBS Dental | T35: BCBS Vision
C36: EE Election | D36: Total Monthly Premium | E36: ER Monthly Premium | F36: EE Monthly Premium | G36: Per Paycheck | I36: EE Election | J36: Total Monthly Premium | K36: ER Monthly Premium | L36: EE Monthly Premium | M36: Per Paycheck | P36: Dental Vol Complete | Q36: Monthly Premium | R36: Per Paycheck | T36: V-B1010 | U36: Monthly Premium | V36: Per Paycheck
C37: Employee (EE) | D37: ='Rate tier guide'!B14 -> 36.42 | E37: 0 | F37: =D37-E37 -> 36.42 | G37: =SUM(F37*12)/$F$4 -> 16.809231 | I37: Employee (EE) | J37: ='Rate tier guide'!B15 -> 7.59 | K37: 0 | L37: =J37-K37 -> 7.59 | M37: =SUM(L37*12)/$F$4 -> 3.5030769 | P37: Employee (EE) | Q37: 37.71 | R37: 18.855 | T37: Employee (EE) | U37: 8.28 | V37: 4.14
C38: EE + Spouse | D38: ='Rate tier guide'!C14 -> 66.9 | E38: 0 | F38: =D38-E38 -> 66.9 | G38: =SUM(F38*12)/$F$4 -> 30.876923 | I38: EE + Spouse | J38: ='Rate tier guide'!C15 -> 15.17 | K38: 0 | L38: =J38-K38 -> 15.17 | M38: =SUM(L38*12)/$F$4 -> 7.0015385 | P38: EE + Spouse | Q38: 85.24 | R38: 42.62 | T38: EE + Spouse | U38: 16.56 | V38: 8.28
C39: EE + Child(ren) | D39: ='Rate tier guide'!D14 -> 74.78 | E39: 0 | F39: =D39-E39 -> 74.78 | G39: =SUM(F39*12)/$F$4 -> 34.513846 | I39: EE + Child(ren) | J39: ='Rate tier guide'!D15 -> 21.77 | K39: 0 | L39: =J39-K39 -> 21.77 | M39: =SUM(L39*12)/$F$4 -> 10.047692 | P39: EE + Child(ren) | Q39: 72.57 | R39: 36.285 | T39: EE + Child(ren) | U39: 15.73 | V39: 7.865
C40: Family | D40: ='Rate tier guide'!E14 -> 112.36 | E40: 0 | F40: =D40-E40 -> 112.36 | G40: =SUM(F40*12)/$F$4 -> 51.858462 | I40: Family | J40: ='Rate tier guide'!E15 -> 31.71 | K40: 0 | L40: =J40-K40 -> 31.71 | M40: =SUM(L40*12)/$F$4 -> 14.635385 | P40: Family | Q40: 121.53 | R40: 60.765 | T40: Family | U40: 24.72 | V40: 12.36
C42: =CONCATENATE("*Per paycheck rates are based on a ",F5," payroll basis.") -> *Per paycheck rates are based on a bi-weekly payroll basis.
C43: See Benefit Guide for Dental, Vision and other Supplemental Coverages and Rates

Sheet Rate tier guide
B1: 7K | F1: 4K HSA | J1: 3K | N1: 1.5K | R1: TX HMO
B2: EE | C2: EE+SP | D2: EE+CH | E2: EE+FAM | F2: EE | G2: EE+SP | H2: EE+CH | I2: EE+FAM | J2: EE | K2: EE+SP | L2: EE+CH | M2: EE+FAM | N2: EE | O2: EE+SP | P2: EE+CH | Q2: EE+FAM | R2: EE | S2: EE+SP | T2: EE+CH | U2: EE+FAM
A3: 0.7 | B3: 534.24197 | C3: 995.37791 | D3: 956.82245 | E3: 1458.478 | F3: 556.29038 | G3: 1037.987 | H3: 997.71815 | I3: 1521.748 | J3: 657.79829 | K3: 1234.1994 | L3: 1186.0072 | M3: 1813.0745 | N3: 732.75283 | O3: 1379.0937 | P3: 1325.0509 | Q3: 2028.1927 | R3: 582.94404 | S3: 1089.5141 | T3: 1047.1557 | U3: 1598.2488
A4: 0.8 | B4: 604.84797 | C4: 1131.8605 | D4: 1087.7971 | E4: 1661.1177 | F4: 630.04614 | G4: 1180.5566 | H4: 1134.535 | I4: 1733.4263 | J4: 746.05518 | K4: 1404.7993 | L4: 1349.7225 | M4: 2066.3708 | N4: 831.71752 | O4: 1570.3928 | P4: 1508.6296 | Q4: 2312.2202 | R4: 660.50747 | S4: 1239.4446 | T4: 1191.0351 | U4: 1820.8558
A5: 0.9 | B5: 675.45396 | C5: 1268.343 | D5: 1218.7717 | E5: 1863.7574 | F5: 703.80191 | G5: 1323.1261 | H5: 1271.3519 | I5: 1945.1046 | J5: 834.31208 | K5: 1575.3992 | L5: 1513.4378 | M5: 2319.6672 | N5: 930.68221 | O5: 1761.6919 | P5: 1692.2082 | Q5: 2596.2477 | R5: 738.07091 | S5: 1389.3752 | T5: 1334.9145 | U5: 2043.4627
A6: 1 | B6: 746.05996 | C6: 1404.8256 | D6: 1349.7464 | E6: 2066.3971 | F6: 777.55768 | G6: 1465.6957 | H6: 1408.1688 | I6: 2156.7829 | J6: 922.56898 | K6: 1745.9991 | L6: 1677.1531 | M6: 2572.9635 | N6: 1029.6469 | O6: 1952.991 | P6: 1875.7869 | Q6: 2880.2753 | R6: 815.63434 | S6: 1539.3058 | T6: 1478.7939 | U6: 2266.0697
A7: 1.1 | B7: 816.66596 | C7: 1541.3081 | D7: 1480.721 | E7: 2269.0368 | F7: 851.31345 | G7: 1608.2653 | H7: 1544.9857 | I7: 2368.4612 | J7: 1010.8259 | K7: 1916.5991 | L7: 1840.8684 | M7: 2826.2599 | N7: 1128.6116 | O7: 2144.2901 | P7: 2059.3656 | Q7: 3164.3028 | R7: 893.19777 | S7: 1689.2364 | T7: 1622.6733 | U7: 2488.6767
A8: 1.2 | B8: 887.27195 | C8: 1677.7907 | D8: 1611.6956 | E8: 2471.6765 | F8: 925.06922 | G8: 1750.8348 | H8: 1681.8025 | I8: 2580.1395 | J8: 1099.0828 | K8: 2087.199 | L8: 2004.5837 | M8: 3079.5562 | N8: 1227.5763 | O8: 2335.5892 | P8: 2242.9443 | Q8: 3448.3303 | R8: 970.76121 | S8: 1839.167 | T8: 1766.5527 | U8: 2711.2837
A9: 1.3 | B9: 957.87795 | C9: 1814.2733 | D9: 1742.6703 | E9: 2674.3162 | F9: 998.82498 | G9: 1893.4044 | H9: 1818.6194 | I9: 2791.8178 | J9: 1187.3397 | K9: 2257.7989 | L9: 2168.299 | M9: 3332.8526 | N9: 1326.541 | O9: 2526.8883 | P9: 2426.523 | Q9: 3732.3578 | R9: 1048.3246 | S9: 1989.0975 | T9: 1910.432 | U9: 2933.8906
A10: 1.4 | B10: 1028.4839 | C10: 1950.7558 | D10: 1873.6449 | E10: 2876.9559 | F10: 1072.5808 | G10: 2035.974 | H10: 1955.4363 | I10: 3003.4961 | J10: 1275.5966 | K10: 2428.3988 | L10: 2332.0143 | M10: 3586.149 | N10: 1425.5057 | O10: 2718.1874 | P10: 2610.1017 | Q10: 4016.3854 | R10: 1125.8881 | S10: 2139.0281 | T10: 2054.3114 | U10: 3156.4976
A11: 1.5 | B11: 1099.0899 | C11: 2087.2384 | D11: 2004.6195 | E11: 3079.5957 | F11: 1146.3365 | G11: 2178.5435 | H11: 2092.2532 | I11: 3215.1743 | J11: 1363.8535 | K11: 2598.9987 | L11: 2495.7297 | M11: 3839.4453 | N11: 1524.4704 | O11: 2909.4865 | P11: 2793.6804 | Q11: 4300.4129 | R11: 1203.4515 | S11: 2288.9587 | T11: 2198.1908 | U11: 3379.1046
A12: 2.6 | B12: 1875.7559 | C12: 3588.5465 | D12: 3445.3405 | E12: 5308.6325 | F12: 1957.65 | G12: 3746.8088 | H12: 3597.2388 | I12: 5543.6355 | J12: 2334.6793 | K12: 4475.5978 | L12: 4296.5981 | M12: 6625.7052 | N12: 2613.0819 | O12: 5013.7765 | P12: 4813.046 | Q12: 7424.7157 | R12: 2056.6493 | S12: 3938.1951 | T12: 3780.8641 | U12: 5827.7813
A13: D High | B13: 43.14 | C13: 80.34 | D13: 85.15 | E13: 130.14
A14: D Low | B14: 36.42 | C14: 66.9 | D14: 74.78 | E14: 112.36
A15: Vision | B15: 7.59 | C15: 15.17 | D15: 21.77 | E15: 31.71
A17: weekly
A18: bi-weekly
A19: semi-monthly
A20: monthly

Sheet SPD Features
B1: Health Insurance Plan Comparisons
B2: Effective January 1, 2019
B4: Plan Details | C4: Silver OAP5 2.5K/20 7.9KAE | D4: Bronze OAP2L 6K/07.9KG | E4: Notes
B5: Medical Deductible | C5: $2500/$7500 | D5: $6000/$12,000 | E5: Individual/Family
B6: Out of Pocket Maximum | C6: $7,900/$15,800 | D6: $7,900/$15,800 | E6: Individual/Family
B7: Doctor Co-Pay | C7: $30 - no deductible | D7: $35 - no deductible
B8: Specialist Co-Pay | C8: $60 - no deductible | D8: $60 - no deductible
B9: Co-Insurance | C9: 0.2 | D9: 0 | E9: Amount you pay after deductible
B10: Preventative Care | C10: 0 | D10: 0
B11: Maternity | C11: 20% co-insurance after deductible is met | D11: 0% co-insurance after deductible is met
B12: Retail Clinic Visit | C12: $30 - no deductible | D12: $35 - no deductible | E12: ex: CVS "MinuteClinic"
B13: Urgent Care Visit | C13: $75 - no deductible | D13: $75 - no deductible
B14: Online Practitioner Visit | C14: $0 first 12 visits and then $30 per visit - no deductible | D14: $0 first 12 visits and then $35 per visit - no deductible
B15: Emergency Room Visit | C15: 350 | D15: 350 | E15: Non-emergency use is NOT covered
B16: Chiropractor | C16: $60 - no deductible | D16: $60 - no deductible
B17: Rx Deductible | C17: 0 | D17: $500/$1,000 | E17: Individual/Family
B18: Tier 1 Drugs | C18: 15 | D18: $15 - no deductible
B19: Tier 2 Drugs | C19: 35 | D19: $50 - after deductible
B20: Tier 3 Drugs | C20: 60 | D20: $100 copay after Rx Deductible is met
B21: Tier 4 Drugs | C21: 25% co-insurance up to max of $350 per Rx | D21: 30% coinsurance up to $500 after Rx deductible met
B22: *All benefits listed above are In-Network. See Summary Plan Description for Out of Network benefits.
